Workbook

Sheet tabla
A1: “ADQUISICIÓN DE PÓLIZAS DE SEGUROS 2018 PARA EL COLEGIO DE BACHILLERES DEL ESTADO DE BAJA CALIFORNIA" ANEXO 10C: RELACIÓN DE INMUEBLES PROPIOS DEL COLEGIO DE BACHILLERES DEL ESTADO DE BAJA CALIFORNIA
A2: PLANTEL | B2: DIRECCIÓN | C2: CIUDAD | D2: ÁREA TERRENO | F2: CANT. DE EDIFICIOS | G2: SUP. CONSTRUC. | I2: CANCHAS DEPORTIVAS
A3: Oficinas Generales | B3: Bulevar Anáhuac No.936, Colonia Anáhuac, C.P. 21000 | C3: Mexicali | D3: 13706 | E3: M2 | F3: ='ofi gral'!C20 -> 5 | G3: ='ofi gral'!E20 -> 4239 | H3: M2 | I3: 0
A4: Mexicali | B4: Avenida Ignacio Zaragoza No.2045, Colonia Nueva, C.P. 21100 | C4: Mexicali | D4: 14422 | E4: M2 | F4: =mex!C38 -> 11 | G4: =mex!E38 -> 6617 | H4: M2 | I4: 2
A5: Baja California | B5: Calle Heróico Colegio Militar, Fraccionamiento Martha Welch, C.P. 21130 | C5: Mexicali | D5: 100000 | E5: M2 | F5: =bc!C53 -> 16 | G5: =bc!E53 -> 7900.52 | H5: M2 | I5: 7
A6: Lic. Héctor Terán Terán | B6: Avenida 52 y Calle Libertador, Fraccionamiento Popular Hidalgo, C.P. 21839 | C6: Mexicali | D6: 18209 | E6: M2 | F6: =mhc!C39 -> 11 | G6: =mhc!E39 -> 3892 | H6: M2 | I6: 3
A7: Mtro. José Vasconcelos Calderón | B7: Km.1 Carretera a Islas Agrarias, Colonia Plutarco Elías Calles, C.P. 21376 | C7: Mexicali | D7: 115000 | E7: M2 | F7: =jvc!C44 -> 13 | G7: =jvc!E44 -> 5254.8 | H7: M2 | I7: 6
A8: Nuevo León | B8: Domocilio conocido, Bulevar Delta, C.P. 21705 | C8: Ejido Nuevo León | D8: 10000 | E8: M2 | F8: =nl!C32 -> 9 | G8: =nl!E32 -> 3974.04 | H8: M2 | I8: 1
A9: Guadalupe Victoria | B9: Calle 18 y Avenida Insurgentes, C.P. 21720 | C9: Guadalupe Victoria | D9: 30500 | E9: M2 | F9: =gv!C39 -> 11 | G9: =gv!E39 -> 3604 | H9: M2 | I9: 2
A10: Ciudad Morelos | B10: Domicilio conocido, Calzada Lázaro Cárdenas s/n, C.P. 21960 | C10: Ciudad Morelos | D10: 19262 | E10: M2 | F10: =cdm!C33 -> 9 | G10: =cdm!E33 -> 2869.04 | H10: M2 | I10: 3
A11: Nayarit | B11: Avenida 16 de Septiembre y Calle Niños Héroes, C.P. 21700 | C11: Ejido Nayarit | D11: 50000 | E11: M2 | F11: =nay!C27 -> 7 | G11: =nay!E27 -> 1444.13 | H11: M2 | I11: 2
A12: Estación Coahuila | B12: Avenida Durango y Calle Octava, C.P. 21803 | C12: Colonias Nuevas | D12: 15824 | E12: M2 | F12: =coah!C30 -> 8 | G12: =coah!E30 -> 1495.56 | H12: M2 | I12: 2
A13: San Felipe | B13: Calle de Los Pinos No.601, C.P. 21850 | C13: San Felipe | D13: 13871 | E13: M2 | F13: =sf!C33 -> 9 | G13: =sf!E33 -> 3054 | H13: M2 | I13: 2
A14: San Felipe (Casa Habitación) | B14: Avenida Mar Bermejo Sur s/n, Fraccionamiento Mar de Cortez, C.P. 21850 | C14: San Felipe | D14: 408.45 | E14: M2 | F14: 1 | G14: 133.87 | H14: M2 | I14: 0
A15: Tecate | B15: Calle Venustiano Carranza No.10, Zona Centro, C.P. 21400 | C15: Tecate | D15: 5202.6 | E15: M2 | F15: =tec!C23 -> 6 | G15: =tec!E23 -> 3390.03 | H15: M2 | I15: 1
A16: Mtro. Rubén Vizcaíno Valencia | B16: Vía Rápida Poniente No.1125, Zona Río Tijuana, C.P. 22400 | C16: Tijuana | D16: 17979.63 | E16: M2 | F16: =rvv!C43 -> 12 | G16: =rvv!E43 -> 4613 | H16: M2 | I16: 4
A17: La Mesa | B17: Avenida Crisantemos, Fraccionamiento Jardínes de La Mesa, C.P. 22680 | C17: Tijuana | D17: 10777 | E17: M2 | F17: =lm!C30 -> 8 | G17: =lm!E30 -> 4056 | H17: M2 | I17: 2
A18: Tijuana Siglo XXI | B18: Avenida Agua Azul No.6811, Fraccionamiento Loma Bonita, Delegación San Antonio de Los Buenos, C.P. 22604 | C18: Tijuana | D18: 49679.05 | E18: M2 | F18: =xxi!C29 -> 7 | G18: =xxi!E29 -> 6500 | H18: M2 | I18: 3
A19: Extensión Tijuana Siglo XXI | B19: Prolongación Cañón K No. 2592, Colonia Patrimonial Benito Juárez, C.P. 22614 | C19: Tijuana | D19: 3329 | E19: M2 | F19: ='ext-xxi'!D16 -> 3 | G19: ='ext-xxi'!F16 -> 956 | H19: M2 | I19: 1
A20: Nueva Tijuana | B20: Paseo del Río y Calle Valles, Tercera Etapa Rio Tijuana, C.P. 22150 | C20: Tijuana | D20: 14977.75 | E20: M2 | F20: =nt!C35 -> 9 | G20: 6781.48 | H20: M2 | I20: 2
A21: Tijuana | B21: Bulevar Las Fuentes y Calle del Roble (Lote 1, Manzana 555) s/n, Fracc. Hacienda Santa María, Delegación La Presa, C.P. 22245 | C21: Tijuana | D21: 6342.47 | E21: M2 | F21: =t!D43 -> 12 | G21: 3807.89 | H21: M2 | I21: 1
A22: Extensión Rubén Vizcaíno Valencia (camino verde) | B22: Av. Popocatepetl s/n, Colonia Camino Verde, Tijuana B.C., C.P. 22190 | C22: Tijuana | D22: 1589.47 | E22: M2 | F22: =ext.rvv!D13 -> 2 | G22: 644 | H22: M2 | I22: 0
A23: Rosarito | B23: Juan Jacobo Rousseau y Pestalozzi, Colonia Magisterial, C.P. 22710 | C23: Playas de Rosarito | D23: 20233.11 | E23: M2 | F23: =ros!C39 -> 11 | G23: 3828.1 | H23: M2 | I23: 2
A24: Primer Ayuntamiento Playas de Rosarito | B24: Calle Plan de San Luis y Avenida Emiliano Zapata, Colonia Ampliación Reforma, C.P. 22710 | C24: Playas de Rosarito | D24: 15361.47 | E24: M2 | F24: ='1 apr'!C31 -> 7 | G24: 4523.26 | H24: M2 | I24: 2
A25: Ensenada | B25: Avenida Adolfo López Mateos No.1838, Zona Centro, C.P. 22800 | C25: Ensenada | D25: 7123.51 | E25: M2 | F25: 14 | G25: 6524.61 | H25: M2 | I25: 5
A26: San Quintín | B26: Domicilio conocido, Rancho Las Escobas, C.P. 22930 | C26: San Quintín | D26: 12661 | E26: M2 | F26: =sq!C40 -> 9 | G26: 2530.3 | H26: M2 | I26: 2
A27: Extensión Ensenada Maneadero | B27: Calle Tercera, entre Rubí y Costa Brava, Fraccionamiento Residencial Los Pinos, C.P. 22793 | C27: Maneadero | D27: 300 | E27: M2 | F27: 1 | G27: 162 | H27: M2 | I27: 0
A28: Profr. Arturo David Velázquez Rivera | B28: Prolongación Avenida Ruiz, Fraccionamiento Los Encinos, C.P. 22819 | C28: Ensenada | D28: 13343.08 | E28: M2 | F28: =advr!C21 -> 4 | G28: =advr!E21 -> 2487 | H28: M2 | I28: 1
A29: Camalú | B29: Avenida Emiliano Zapata s/n, entre Calle Primera y Segunda, Camalú, C.P. 22910 | C29: Camalú | D29: 9138.701 | E29: M2 | F29: 10 | G29: 1473.91 | H29: M2 | I29: 1
A30: Valle de Guadalupe | B30: Domicilio conocido, Escuela Secundaria General No. 4, C.P. 22750 | C30: Colonia Francisco Zarco | D30: 0 | E30: M2 | F30: 1 | G30: 59.51 | H30: M2 | I30: 0
A31: CEMSAD Real del Castillo | B31: Calle Prolongación Lázaro Cárdenas, Parcela 67, C.P. 22770 | C31: Ejido Real Del Castillo | D31: 30000 | E31: M2 | F31: 7 | G31: 909.97 | H31: M2 | I31: 1
A32: CEMSAD Valle de la Trinidad | B32: Calle Arrollo de León y Camino Vecinal s/n, (antes Escuela Primaria Rural "Eligio Esquivel Méndez"), C.P. 22917 | C32: Colonia Lázaro Cárdenas | D32: 10601.37 | E32: M2 | F32: ='cem-vt'!C24 -> 5 | G32: ='cem-vt'!E24 -> 850 | H32: M2 | I32: 1
A33: CEMSAD San Vicente | B33: Domicilio conocido, San Vicente. | C33: San Vicente | E33: M2 | F33: 7 | G33: 1207.72 | H33: M2 | I33: 0
A34: Miguel Hidalgo y Costilla | B34: Bulevar de Los Presidentes y Calzada Villa del Sol, C.P. 21356 | C34: Mexicali | D34: 86205 | E34: M2 | F34: =ci.mhc!C21 -> 4 | G34: 3777.23 | H34: M2 | I34: 1
A35: El Florido | B35: Calle Geranio s/n, Col. El Florido, 1ra. Sección Delegación La Presa, Tijuana, B.C., C.P. 22237 | C35: Tijuana | D35: 31290.49 | E35: M2 | F35: 14 | G35: 7313.97 | H35: M2 | I35: 1
A36: Extensión Primer Ayuntamiento Playas de Rosarito | B36: Calle Cidro esquina con Fresno (Secundaria No.21), Urbi Quinta del Cedro, 2da. Sección, Tijuana, B.C., C.P. 22564 | C36: Tijuana | D36: 0 | E36: M2 | F36: ='ext. 1er ayto'!D15 -> 3 | G36: ='ext. 1er ayto'!F15 -> 303 | H36: M2 | I36: 0
A37: Mtro. Alonso Lujambio Irazabal | B37: Calle Cuitláhuac s/n, Colonia Cuauhtémoc, Tecate, B.C., C.P. 21470 | C37: Tecate | D37: 5000.022 | E37: M2 | F37: 10 | G37: 866.67 | H37: M2 | I37: 0
A38: Oficinas Administrativas 2 | B38: Checoslovaquia y Continente Americano, Fraccionamiento Martha Welch, C.P. 21179 | C38: Mexicali | D38: =30*40 -> 1200 | E38: M2 | F38: 1 | G38: 673 | H38: M2 | I38: 0
A39: Oficinas Coordinación Zona Costa | B39: Vía Rápida Oriente, Tercera Etapa Río Tijuana, C.P. 22226 | C39: Tijuana | D39: 1755.17 | E39: M2 | F39: 1 | G39: 429 | H39: M2 | I39: 0
F40: TOTAL: | G40: =SUM(G3:G39) -> 113145.61 | H40: M2

Sheet ofi gral
B1: OFICINAS GENERALES
B3: SUPERFICIES DE CONSTRUCCIÓN POR EDIFICIO
A5: 1 | B5: Edificio 'A' | D5: Área P.A. : | G5: =CONCATENATE("Total ", B5) -> Total Edificio 'A'
B6: Dirección Finanzas | D6: Área P.B. : | E6: 802 | G6: =CONCATENATE(SUM(E5:E6)," M2") -> 802 M2
A8: 2 | B8: Edificio 'B' | D8: Área P.A. : | E8: 882 | G8: =CONCATENATE("Total ", B8) -> Total Edificio 'B'
B9: Dirección General | D9: Área P.B. : | E9: 1187 | G9: =CONCATENATE(SUM(E8:E9)," M2") -> 2069 M2
A11: 3 | B11: Edificio 'C' | D11: Área P.A. : | E11: 388 | G11: =CONCATENATE("Total ", B11) -> Total Edificio 'C'
B12: Depto Obras y Compras | D12: Área P.B. : | E12: 750 | G12: =CONCATENATE(SUM(E11:E12)," M2") -> 1138 M2
A14: 4 | B14: Edificio 'D' | D14: Área P.A. : | G14: =CONCATENATE("Total ", B14) -> Total Edificio 'D'
B15: Talleres | D15: Área P.B. : | E15: 194 | G15: =CONCATENATE(SUM(E14:E15)," M2") -> 194 M2
A17: 5 | B17: Edificio 'Móvil' | D17: Área P.A. : | G17: =CONCATENATE("Total ", B17) -> Total Edificio 'Móvil'
D18: Área P.B. : | E18: 36 | G18: =CONCATENATE(SUM(E17:E18)," M2") -> 36 M2
B20: Total Edificios: | C20: =COUNT(A5:A19) -> 5 | D20: Área Total: | E20: =SUM(E5:E19) -> 4239

Sheet mex
B1: PLANTEL MEXICALI
B3: SUPERFICIES DE CONSTRUCCIÓN POR EDIFICIO
A5: 1 | B5: Edificio 'A' | D5: Área P.A. : | G5: =CONCATENATE("Total ", B5) -> Total Edificio 'A'
B6: Administrativo | D6: Área P.B. : | E6: 658 | G6: =CONCATENATE(SUM(E5:E6)," M2") -> 658 M2
A8: 2 | B8: Edificio 'B' | D8: Área P.A. : | E8: 824 | G8: =CONCATENATE("Total ", B8) -> Total Edificio 'B'
B9: Aulas y Biblioteca | D9: Área P.B. : | E9: 824 | G9: =CONCATENATE(SUM(E8:E9)," M2") -> 1648 M2
A11: 3 | B11: Edificio 'C' | D11: Área P.A. : | E11: 408 | G11: =CONCATENATE("Total ", B11) -> Total Edificio 'C'
D12: Área P.B. : | E12: 408 | G12: =CONCATENATE(SUM(E11:E12)," M2") -> 816 M2
A14: 4 | B14: Edificio 'D' | D14: Área P.A. : | E14: 343 | G14: =CONCATENATE("Total ", B14) -> Total Edificio 'D'
D15: Área P.B. : | E15: 343 | G15: =CONCATENATE(SUM(E14:E15)," M2") -> 686 M2
A17: 5 | B17: Edificio 'E' | D17: Área P.A. : | G17: =CONCATENATE("Total ", B17) -> Total Edificio 'E'
D18: Área P.B. : | E18: 301 | G18: =CONCATENATE(SUM(E17:E18)," M2") -> 301 M2
A20: 6 | B20: Edificio 'F' | D20: Área P.A. : | E20: 301 | G20: =CONCATENATE("Total ", B20) -> Total Edificio 'F'
D21: Área P.B. : | E21: 301 | G21: =CONCATENATE(SUM(E20:E21)," M2") -> 602 M2
A23: 7 | B23: Edificio 'G' | D23: Área P.A. : | G23: =CONCATENATE("Total ", B23) -> Total Edificio 'G'
B24: Teatro | D24: Área P.B. : | E24: 584 | G24: =CONCATENATE(SUM(E23:E24)," M2") -> 584 M2
A26: 8 | B26: Edificio 'H' | D26: Área P.A. : | G26: =CONCATENATE("Total ", B26) -> Total Edificio 'H'
D27: Área P.B. : | E27: 297 | G27: =CONCATENATE(SUM(E26:E27)," M2") -> 297 M2
A29: 9 | B29: Edificio 'I' | D29: Área P.A. : | G29: =CONCATENATE("Total ", B29) -> Total Edificio 'I'
B30: Cafetería | D30: Área P.B. : | E30: 158 | G30: =CONCATENATE(SUM(E29:E30)," M2") -> 158 M2
A32: 10 | B32: Gimnasio | D32: Área P.A. : | G32: =CONCATENATE("Total ", B32) -> Total Gimnasio
D33: Área P.B. : | E33: 831 | G33: =CONCATENATE(SUM(E32:E33)," M2") -> 831 M2
A35: 11 | B35: Edificio 'Móvil' | D35: Área P.A. : | G35: =CONCATENATE("Total ", B35) -> Total Edificio 'Móvil'
B36: Paraescolares | D36: Área P.B. : | E36: 36 | G36: =CONCATENATE(SUM(E35:E36)," M2") -> 36 M2
B38: Total Edificios: | C38: =COUNT(A5:A37) -> 11 | D38: Área Total: | E38: =SUM(E5:E36) -> 6617

Sheet bc
B1: PLANTEL BAJA CALIFORNIA
B3: SUPERFICIES DE CONSTRUCCIÓN POR EDIFICIO
A5: 1 | B5: Edificio 'A' | D5: Área P.A. : | E5: 415 | G5: =CONCATENATE("Total ", B5) -> Total Edificio 'A'
D6: Área P.B. : | E6: 415 | G6: =CONCATENATE(SUM(E5:E6)," M2") -> 830 M2
A8: 2 | B8: Edificio 'B' | D8: Área P.A. : | E8: 382 | G8: =CONCATENATE("Total ", B8) -> Total Edificio 'B'
D9: Área P.B. : | E9: 382 | G9: =CONCATENATE(SUM(E8:E9)," M2") -> 764 M2
A11: 3 | B11: Edificio 'C' | D11: Área P.A. : | G11: =CONCATENATE("Total ", B11) -> Total Edificio 'C'
D12: Área P.B. : | E12: 385 | G12: =CONCATENATE(SUM(E11:E12)," M2") -> 385 M2
A14: 4 | B14: Edificio 'D' | D14: Área P.A. : | E14: 340 | G14: =CONCATENATE("Total ", B14) -> Total Edificio 'D'
D15: Área P.B. : | E15: 340 | G15: =CONCATENATE(SUM(E14:E15)," M2") -> 680 M2
A17: 5 | B17: Edificio 'E' | D17: Área P.A. : | E17: 173 | G17: =CONCATENATE("Total ", B17) -> Total Edificio 'E'
B18: CEI | D18: Área P.B. : | E18: 173 | G18: =CONCATENATE(SUM(E17:E18)," M2") -> 346 M2
A20: 6 | B20: Edificio 'F' | D20: Área P.A. : | E20: 349 | G20: =CONCATENATE("Total ", B20) -> Total Edificio 'F'
D21: Área P.B. : | E21: 349 | G21: =CONCATENATE(SUM(E20:E21)," M2") -> 698 M2
A23: 7 | B23: Edificio 'G' | D23: Área P.A. : | G23: =CONCATENATE("Total ", B23) -> Total Edificio 'G'
B24: Audiovisual | D24: Área P.B. : | E24: 209 | G24: =CONCATENATE(SUM(E23:E24)," M2") -> 209 M2
A26: 8 | B26: Edificio 'H' | D26: Área P.A. : | G26: =CONCATENATE("Total ", B26) -> Total Edificio 'H'
B27: Biblioteca | D27: Área P.B. : | E27: 191 | G27: =CONCATENATE(SUM(E26:E27)," M2") -> 191 M2
A29: 9 | B29: Edificio 'I' | D29: Área P.A. : | G29: =CONCATENATE("Total ", B29) -> Total Edificio 'I'
D30: Área P.B. : | E30: 108 | G30: =CONCATENATE(SUM(E29:E30)," M2") -> 108 M2
A32: 10 | B32: Administrativo | D32: Área P.A. : | G32: =CONCATENATE("Total ", B32) -> Total Administrativo
D33: Área P.B. : | E33: 546 | G33: =CONCATENATE(SUM(E32:E33)," M2") -> 546 M2
A35: 11 | B35: Cafetería | D35: Área P.A. : | G35: =CONCATENATE("Total ", B35) -> Total Cafetería
D36: Área P.B. : | E36: 128 | G36: =CONCATENATE(SUM(E35:E36)," M2") -> 128 M2
A38: 12 | B38: Teatro | D38: Área P.A. : | G38: =CONCATENATE("Total ", B38) -> Total Teatro
D39: Área P.B. : | E39: 588 | G39: =CONCATENATE(SUM(E38:E39)," M2") -> 588 M2
A41: 13 | B41: Gimnasio | D41: Área P.A. : | G41: =CONCATENATE("Total ", B41) -> Total Gimnasio
D42: Área P.B. : | E42: 831 | G42: =CONCATENATE(SUM(E41:E42)," M2") -> 831 M2
A44: 14 | B44: Alberca / Baños | D44: Área P.A. : | G44: =CONCATENATE("Total ", B44) -> Total Alberca / Baños
D45: Área P.B. : | E45: 1049 | G45: =CONCATENATE(SUM(E44:E45)," M2") -> 1049 M2
A47: 15 | B47: Edificio 'J' | D47: Área P.A. : | E47: 242.74 | G47: =CONCATENATE("Total ", B47) -> Total Edificio 'J'
B48: 4 Aulas 2017 | D48: Área P.B. : | E48: 242.74 | G48: =CONCATENATE(SUM(E47:E48)," M2") -> 485.48 M2
A50: 16 | B50: Módulo de Baños | D50: Área P.A. : | G50: =CONCATENATE("Total ", B50) -> Total Módulo de Baños
D51: Área P.B. : | E51: 62.04 | G51: =CONCATENATE(SUM(E50:E51)," M2") -> 62.04 M2
B53: Total Edificios: | C53: =COUNT(A5:A51) -> 16 | D53: Área Total: | E53: =SUM(E5:E52) -> 7900.52

Sheet mhc
B1: PLANTEL MIGUEL HIDALGO
B3: SUPERFICIES DE CONSTRUCCIÓN POR EDIFICIO
A5: 1 | B5: Edificio 'A' | D5: Área P.A. : | G5: =CONCATENATE("Total ", B5) -> Total Edificio 'A'
B6: Administrativo | D6: Área P.B. : | E6: 345 | G6: =CONCATENATE(SUM(E5:E6)," M2") -> 345 M2
A8: 2 | B8: Edificio 'B' | D8: Área P.A. : | G8: =CONCATENATE("Total ", B8) -> Total Edificio 'B'
B9: Laboratorios | D9: Área P.B. : | E9: 366 | G9: =CONCATENATE(SUM(E8:E9)," M2") -> 366 M2
A11: 3 | B11: Edificio 'C' | D11: Área P.A. : | E11: 382 | G11: =CONCATENATE("Total ", B11) -> Total Edificio 'C'
B12: Aulas | D12: Área P.B. : | E12: 382 | G12: =CONCATENATE(SUM(E11:E12)," M2") -> 764 M2
A14: 4 | B14: Edificio 'D' | D14: Área P.A. : | E14: 206 | G14: =CONCATENATE("Total ", B14) -> Total Edificio 'D'
B15: Cubículos | D15: Área P.B. : | E15: 278 | G15: =CONCATENATE(SUM(E14:E15)," M2") -> 484 M2
A17: 5 | B17: Edificio 'E' | D17: Área P.A. : | G17: =CONCATENATE("Total ", B17) -> Total Edificio 'E'
D18: Área P.B. : | E18: 244 | G18: =CONCATENATE(SUM(E17:E18)," M2") -> 244 M2
A20: 6 | B20: Edificio 'F' | D20: Área P.A. : | G20: =CONCATENATE("Total ", B20) -> Total Edificio 'F'
B21: Audiovisual | D21: Área P.B. : | E21: 345 | G21: =CONCATENATE(SUM(E20:E21)," M2") -> 345 M2
A23: 7 | B23: Edificio 'G' | D23: Área P.A. : | G23: =CONCATENATE("Total ", B23) -> Total Edificio 'G'
B24: CEI | D24: Área P.B. : | E24: 345 | G24: =CONCATENATE(SUM(E23:E24)," M2") -> 345 M2
A26: 8 | B26: Edificio 'H' | D26: Área P.A. : | G26: =CONCATENATE("Total ", B26) -> Total Edificio 'H'
B27: Baños | D27: Área P.B. : | E27: 111 | G27: =CONCATENATE(SUM(E26:E27)," M2") -> 111 M2
A29: 9 | B29: Edificio 'I' | D29: Área P.A. : | E29: 282 | G29: =CONCATENATE("Total ", B29) -> Total Edificio 'I'
B30: Aulas | D30: Área P.B. : | E30: 282 | G30: =CONCATENATE(SUM(E29:E30)," M2") -> 564 M2
A32: 10 | B32: Biblioteca | D32: Área P.A. : | G32: =CONCATENATE("Total ", B32) -> Total Biblioteca
D33: Área P.B. : | E33: 210 | G33: =CONCATENATE(SUM(E32:E33)," M2") -> 210 M2
A35: 11 | B35: Cafetería | D35: Área P.A. : | G35: =CONCATENATE("Total ", B35) -> Total Cafetería
D36: Área P.B. : | E36: 114 | G36: =CONCATENATE(SUM(E35:E36)," M2") -> 114 M2
B39: Total Edificios: | C39: =A35 -> 11 | D39: Área Total: | E39: =SUM(E5:E37) -> 3892

Sheet ci.mhc
B1: CENTRO INTEGRAL MIGUEL HIDALGO
B3: SUPERFICIES DE CONSTRUCCIÓN POR EDIFICIO
A5: 1 | B5: Edificio 'A' | D5: Área 3er Niv. : | E5: 332 | G5: =CONCATENATE("Total ", B5) -> Total Edificio 'A'
D6: Área 2do Niv. : | E6: 332 | G6: =CONCATENATE(SUM(E5:E7)," M2") -> 996 M2
D7: Área P.B. : | E7: 332
A9: 2 | B9: Edificio 'B' | D9: Área 3er Niv. : | E9: 432 | G9: =CONCATENATE("Total ", B9) -> Total Edificio 'B'
D10: Área 2do Niv. : | E10: 432 | G10: =CONCATENATE(SUM(E9:E11)," M2") -> 1296 M2
D11: Área P.B. : | E11: 432
A13: 3 | B13: Edificio 'C' | D13: Área 3er Niv. : | E13: 347 | G13: =CONCATENATE("Total ", B13) -> Total Edificio 'C'
D14: Área 2do Niv. : | E14: 347 | G14: =CONCATENATE(SUM(E13:E15)," M2") -> 1041 M2
D15: Área P.B. : | E15: 347
A17: 4 | B17: Edificio Móvil | D17: Área P.A. : | G17: =CONCATENATE("Total ", B17) -> Total Edificio Móvil
B18: Cafetería | D18: Área P.B. : | E18: 33 | G18: =CONCATENATE(SUM(E17:E18)," M2") -> 33 M2
I19: modulo gradas | K19: 23.30x7.60m | M19: 154.28 | N19: m2
I20: cuarto de bombas y tanque vs incendios | L20: 10.5 x 12m | M20: 126 | N20: m2
B21: Total Edificios: | C21: =COUNT(A4:A20) -> 4 | D21: Área Total: | E21: =SUM(E5:E20) -> 3366 | I21: cisterna riego y baños | K21: 13.5 x 9.70m | M21: 130.95 | N21: m2

Sheet jvc
B1: PLANTEL JOSÉ VASCONCELOS
B3: SUPERFICIES DE CONSTRUCCIÓN POR EDIFICIO
A5: 1 | B5: Edificio 'A' | D5: Área P.A. : | E5: 257 | G5: =CONCATENATE("Total ", B5) -> Total Edificio 'A'
B6: Administrativo | D6: Área P.B. : | E6: 257 | G6: =CONCATENATE(SUM(E5:E6)," M2") -> 514 M2
A8: 2 | B8: Edificio '1' | D8: Área P.A. : | E8: 463 | G8: =CONCATENATE("Total ", B8) -> Total Edificio '1'
D9: Área P.B. : | E9: 463 | G9: =CONCATENATE(SUM(E8:E9)," M2") -> 926 M2
A11: 3 | B11: Edificio '2' | D11: Área P.A. : | E11: 497 | G11: =CONCATENATE("Total ", B11) -> Total Edificio '2'
D12: Área P.B. : | E12: 497 | G12: =CONCATENATE(SUM(E11:E12)," M2") -> 994 M2
A14: 4 | B14: Edificio '3' | D14: Área P.A. : | E14: 463 | G14: =CONCATENATE("Total ", B14) -> Total Edificio '3'
D15: Área P.B. : | E15: 463 | G15: =CONCATENATE(SUM(E14:E15)," M2") -> 926 M2
A17: 5 | B17: Edificio '4' | D17: Área P.A. : | E17: 497 | G17: =CONCATENATE("Total ", B17) -> Total Edificio '4'
D18: Área P.B. : | E18: 497 | G18: =CONCATENATE(SUM(E17:E18)," M2") -> 994 M2
A20: 6 | B20: Edificio '5' | D20: Área P.A. : | G20: =CONCATENATE("Total ", B20) -> Total Edificio '5'
D21: Área P.B. : | E21: 225 | G21: =CONCATENATE(SUM(E20:E21)," M2") -> 225 M2
A23: 7 | B23: Edificio Móvil A | D23: Área P.A. : | G23: =CONCATENATE("Total ", B23) -> Total Edificio Móvil A
B24: cemsad | D24: Área P.B. : | E24: 95 | G24: =CONCATENATE(SUM(E23:E24)," M2") -> 95 M2
A26: 8 | B26: Edificio Móvil B | D26: Área P.A. : | G26: =CONCATENATE("Total ", B26) -> Total Edificio Móvil B
B27: cemsad | D27: Área P.B. : | E27: 134 | G27: =CONCATENATE(SUM(E26:E27)," M2") -> 134 M2
A29: 9 | B29: Edificio Móvil 1 | D29: Área P.A. : | G29: =CONCATENATE("Total ", B29) -> Total Edificio Móvil 1
B30: Salón música | D30: Área P.B. : | E30: 33 | G30: =CONCATENATE(SUM(E29:E30)," M2") -> 33 M2
A32: 10 | B32: Edificio Móvil 2 | D32: Área P.A. : | G32: =CONCATENATE("Total ", B32) -> Total Edificio Móvil 2
B33: Sala Maestros | D33: Área P.B. : | E33: 84 | G33: =CONCATENATE(SUM(E32:E33)," M2") -> 84 M2
A35: 11 | B35: Edificio Móvil 3 | D35: Área P.A. : | G35: =CONCATENATE("Total ", B35) -> Total Edificio Móvil 3
B36: 2 aulas | D36: Área P.B. : | E36: 133.88 | G36: =CONCATENATE(SUM(E35:E36)," M2") -> 133.88 M2
A38: 12 | B38: Edificio Móvil 4 | D38: Área P.A. : | G38: =CONCATENATE("Total ", B38) -> Total Edificio Móvil 4
B39: 2 Aulas | D39: Área P.B. : | E39: 133.88 | G39: =CONCATENATE(SUM(E38:E39)," M2") -> 133.88 M2
A41: 13 | B41: Edificio '6' | D41: Área P.A. : | G41: =CONCATENATE("Total ", B41) -> Total Edificio '6'
B42: Módulo de Baños | D42: Área P.B. : | E42: 62.04 | G42: =CONCATENATE(SUM(E41:E42)," M2") -> 62.04 M2
B44: Total Edificios: | C44: =A41 -> 13 | D44: Área Total: | E44: =SUM(E5:E42) -> 5254.8

Sheet nl
B1: PLANTEL NUEVO LEÓN
B3: SUPERFICIES DE CONSTRUCCIÓN POR EDIFICIO
A5: 1 | B5: Edificio 'A' | D5: Área P.A. : | G5: =CONCATENATE("Total ", B5) -> Total Edificio 'A'
B6: Administrativo | D6: Área P.B. : | E6: 385 | G6: =CONCATENATE(SUM(E5:E6)," M2") -> 385 M2
A8: 2 | B8: Edificio 'B' | D8: Área P.A. : | E8: 379 | G8: =CONCATENATE("Total ", B8) -> Total Edificio 'B'
D9: Área P.B. : | E9: 379 | G9: =CONCATENATE(SUM(E8:E9)," M2") -> 758 M2
A11: 3 | B11: Edificio 'C' | D11: Área P.A. : | E11: 587 | G11: =CONCATENATE("Total ", B11) -> Total Edificio 'C'
D12: Área P.B. : | E12: 587 | G12: =CONCATENATE(SUM(E11:E12)," M2") -> 1174 M2
A14: 4 | B14: Edificio 'D' | D14: Área P.A. : | G14: =CONCATENATE("Total ", B14) -> Total Edificio 'D'
D15: Área P.B. : | E15: 268 | G15: =CONCATENATE(SUM(E14:E15)," M2") -> 268 M2
A17: 5 | B17: Edificio 'E' | D17: Área P.A. : | E17: 350 | G17: =CONCATENATE("Total ", B17) -> Total Edificio 'E'
D18: Área P.B. : | E18: 350 | G18: =CONCATENATE(SUM(E17:E18)," M2") -> 700 M2
A20: 6 | B20: Edificio 'F' | D20: Área P.A. : | G20: =CONCATENATE("Total ", B20) -> Total Edificio 'F'
D21: Área P.B. : | E21: 140 | G21: =CONCATENATE(SUM(E20:E21)," M2") -> 140 M2
A23: 7 | B23: Edificio 'G' | D23: Área P.A. : | G23: =CONCATENATE("Total ", B23) -> Total Edificio 'G'
D24: Área P.B. : | E24: 142 | G24: =CONCATENATE(SUM(E23:E24)," M2") -> 142 M2
A26: 8 | B26: Edificio 'H' | D26: Área P.A. : | G26: =CONCATENATE("Total ", B26) -> Total Edificio 'H'
D27: Área P.B. : | E27: 345 | G27: =CONCATENATE(SUM(E26:E27)," M2") -> 345 M2
A29: 9 | B29: Edificio 'I' | D29: Área P.A. : | G29: =CONCATENATE("Total ", B29) -> Total Edificio 'I'
B30: Módulo de Baños | D30: Área P.B. : | E30: 62.04 | G30: =CONCATENATE(SUM(E29:E30)," M2") -> 62.04 M2
B32: Total Edificios: | C32: =A29 -> 9 | D32: Área Total: | E32: =SUM(E5:E30) -> 3974.04

Sheet gv
B1: PLANTEL GUADALUPE VICTORIA
B3: SUPERFICIES DE CONSTRUCCIÓN POR EDIFICIO
A5: 1 | B5: Edificio 'A' | D5: Área P.A. : | G5: =CONCATENATE("Total ", B5) -> Total Edificio 'A'
B6: Audiovisual | D6: Área P.B. : | E6: 244 | G6: =CONCATENATE(SUM(E5:E6)," M2") -> 244 M2
A8: 2 | B8: Edificio 'B' | D8: Área P.A. : | E8: 585 | G8: =CONCATENATE("Total ", B8) -> Total Edificio 'B'
D9: Área P.B. : | E9: 585 | G9: =CONCATENATE(SUM(E8:E9)," M2") -> 1170 M2
A11: 3 | B11: Edificio 'C' | D11: Área P.A. : | G11: =CONCATENATE("Total ", B11) -> Total Edificio 'C'
B12: Administrativo | D12: Área P.B. : | E12: 422 | G12: =CONCATENATE(SUM(E11:E12)," M2") -> 422 M2
A14: 4 | B14: Edificio 'D' | D14: Área P.A. : | G14: =CONCATENATE("Total ", B14) -> Total Edificio 'D'
B15: 2 aulas | D15: Área P.B. : | E15: 173 | G15: =CONCATENATE(SUM(E14:E15)," M2") -> 173 M2
A17: 5 | B17: Edificio 'E' | D17: Área P.A. : | G17: =CONCATENATE("Total ", B17) -> Total Edificio 'E'
D18: Área P.B. : | E18: 435 | G18: =CONCATENATE(SUM(E17:E18)," M2") -> 435 M2
A20: 6 | B20: Edificio 'F' | D20: Área P.A. : | G20: =CONCATENATE("Total ", B20) -> Total Edificio 'F'
B21: Cafetería | D21: Área P.B. : | E21: 147 | G21: =CONCATENATE(SUM(E20:E21)," M2") -> 147 M2
A23: 7 | B23: Edificio 'G' | D23: Área P.A. : | G23: =CONCATENATE("Total ", B23) -> Total Edificio 'G'
D24: Área P.B. : | E24: 405 | G24: =CONCATENATE(SUM(E23:E24)," M2") -> 405 M2
A26: 8 | B26: Edificio 'H' | D26: Área P.A. : | G26: =CONCATENATE("Total ", B26) -> Total Edificio 'H'
B27: Informática - CEI | D27: Área P.B. : | E27: 244 | G27: =CONCATENATE(SUM(E26:E27)," M2") -> 244 M2
A29: 9 | B29: Edificio 'I' | D29: Área P.A. : | G29: =CONCATENATE("Total ", B29) -> Total Edificio 'I'
B30: Bodega | D30: Área P.B. : | E30: 141 | G30: =CONCATENATE(SUM(E29:E30)," M2") -> 141 M2
A32: 10 | B32: Edificio Móvil 1 | D32: Área P.A. : | G32: =CONCATENATE("Total ", B32) -> Total Edificio Móvil 1
B33: 2 aulas | D33: Área P.B. : | E33: 134 | G33: =CONCATENATE(SUM(E32:E33)," M2") -> 134 M2
A35: 11 | B35: Edificio Móvil 2 | D35: Área P.A. : | G35: =CONCATENATE("Total ", B35) -> Total Edificio Móvil 2
D36: Área P.B. : | E36: 89 | G36: =CONCATENATE(SUM(E35:E36)," M2") -> 89 M2
B39: Total Edificios: | C39: =A35 -> 11 | D39: Área Total: | E39: =SUM(E5:E37) -> 3604

Sheet cdm
B1: PLANTEL CIUDAD MORELOS
B3: SUPERFICIES DE CONSTRUCCIÓN POR EDIFICIO
A5: 1 | B5: Edificio 'A' | D5: Área P.A. : | G5: =CONCATENATE("Total ", B5) -> Total Edificio 'A'
B6: Administrativo | D6: Área P.B. : | E6: 440 | G6: =CONCATENATE(SUM(E5:E6)," M2") -> 440 M2
A8: 2 | B8: Edificio 'B' | D8: Área P.A. : | G8: =CONCATENATE("Total ", B8) -> Total Edificio 'B'
D9: Área P.B. : | E9: 474 | G9: =CONCATENATE(SUM(E8:E9)," M2") -> 474 M2
A11: 3 | B11: Edificio 'C' | D11: Área P.A. : | G11: =CONCATENATE("Total ", B11) -> Total Edificio 'C'
D12: Área P.B. : | E12: 75 | G12: =CONCATENATE(SUM(E11:E12)," M2") -> 75 M2
A14: 4 | B14: Edificio 'D' | D14: Área P.A. : | G14: =CONCATENATE("Total ", B14) -> Total Edificio 'D'
D15: Área P.B. : | E15: 585 | G15: =CONCATENATE(SUM(E14:E15)," M2") -> 585 M2
A17: 5 | B17: Edificio 'E' | D17: Área P.A. : | E17: 392 | G17: =CONCATENATE("Total ", B17) -> Total Edificio 'E'
D18: Área P.B. : | E18: 392 | G18: =CONCATENATE(SUM(E17:E18)," M2") -> 784 M2
A20: 6 | B20: Edificio 'F' | D20: Área P.A. : | G20: =CONCATENATE("Total ", B20) -> Total Edificio 'F'
D21: Área P.B. : | E21: 173 | G21: =CONCATENATE(SUM(E20:E21)," M2") -> 173 M2
A23: 7 | B23: Edificio 'G' | D23: Área P.A. : | G23: =CONCATENATE("Total ", B23) -> Total Edificio 'G'
B24: Informática - CEI | D24: Área P.B. : | E24: 142 | G24: =CONCATENATE(SUM(E23:E24)," M2") -> 142 M2
A26: 8 | B26: Edificio Móvil 1 | D26: Área P.A. : | G26: =CONCATENATE("Total ", B26) -> Total Edificio Móvil 1
B27: 2 aulas | D27: Área P.B. : | E27: 134 | G27: =CONCATENATE(SUM(E26:E27)," M2") -> 134 M2
A29: 9 | B29: Edificio 'H' | D29: Área P.A. : | G29: =CONCATENATE("Total ", B29) -> Total Edificio 'H'
B30: Módulo de Baños | D30: Área P.B. : | E30: 62.04 | G30: =CONCATENATE(SUM(E29:E30)," M2") -> 62.04 M2
B33: Total Edificios: | C33: =A29 -> 9 | D33: Área Total: | E33: =SUM(E4:E32) -> 2869.04

Sheet nay
B1: PLANTEL NAYARIT
B3: SUPERFICIES DE CONSTRUCCIÓN POR EDIFICIO
A5: 1 | B5: Edificio 'A' | D5: Área P.A. : | G5: =CONCATENATE("Total ", B5) -> Total Edificio 'A'
B6: Administrativo | D6: Área P.B. : | E6: 290 | G6: =CONCATENATE(SUM(E5:E6)," M2") -> 290 M2
A8: 2 | B8: Edificio 'B' | D8: Área P.A. : | G8: =CONCATENATE("Total ", B8) -> Total Edificio 'B'
B9: Aulas | D9: Área P.B. : | E9: 290 | G9: =CONCATENATE(SUM(E8:E9)," M2") -> 290 M2
A11: 3 | B11: Edificio 'C' | D11: Área P.A. : | G11: =CONCATENATE("Total ", B11) -> Total Edificio 'C'
B12: Laboratorios | D12: Área P.B. : | E12: 290 | G12: =CONCATENATE(SUM(E11:E12)," M2") -> 290 M2
A14: 4 | B14: Edificio 'D' | D14: Área P.A. : | G14: =CONCATENATE("Total ", B14) -> Total Edificio 'D'
B15: Cubiculos | D15: Área P.B. : | E15: 290 | G15: =CONCATENATE(SUM(E14:E15)," M2") -> 290 M2
A17: 5 | B17: Edificio Móvil | D17: Área P.A. : | G17: =CONCATENATE("Total ", B17) -> Total Edificio Móvil
B18: Sala maestros | D18: Área P.B. : | E18: 61 | G18: =CONCATENATE(SUM(E17:E18)," M2") -> 61 M2
A20: 6 | B20: Edificio Móvil | D20: Área P.A. : | G20: =CONCATENATE("Total ", B20) -> Total Edificio Móvil
B21: Aulas | D21: Área P.B. : | E21: 89.25 | G21: =CONCATENATE(SUM(E20:E21)," M2") -> 89.25 M2
A23: 7 | B23: Edificio Móvil | D23: Área P.A. : | G23: =CONCATENATE("Total ", B23) -> Total Edificio Móvil
B24: Aulas | D24: Área P.B. : | E24: 133.88 | G24: =CONCATENATE(SUM(E23:E24)," M2") -> 133.88 M2
B27: Total Edificios: | C27: =A23 -> 7 | D27: Área Total: | E27: =SUM(E4:E26) -> 1444.13

Sheet coah
B1: PLANTEL ESTACIÓN COAHUILA
B3: SUPERFICIES DE CONSTRUCCIÓN POR EDIFICIO
A5: 1 | B5: Edificio 'A' | D5: Área P.A. : | G5: =CONCATENATE("Total ", B5) -> Total Edificio 'A'
B6: Aulas | D6: Área P.B. : | E6: 427 | G6: =CONCATENATE(SUM(E5:E6)," M2") -> 427 M2
A8: 2 | B8: Edificio 'B' | D8: Área P.A. : | G8: =CONCATENATE("Total ", B8) -> Total Edificio 'B'
B9: Administrativo | D9: Área P.B. : | E9: 367 | G9: =CONCATENATE(SUM(E8:E9)," M2") -> 367 M2
A11: 3 | B11: Edificio Móvil 1 | D11: Área P.A. : | G11: =CONCATENATE("Total ", B11) -> Total Edificio Móvil 1
D12: Área P.B. : | E12: 126 | G12: =CONCATENATE(SUM(E11:E12)," M2") -> 126 M2
A14: 4 | B14: Edificio Móvil 2 | D14: Área P.A. : | G14: =CONCATENATE("Total ", B14) -> Total Edificio Móvil 2
D15: Área P.B. : | E15: 126 | G15: =CONCATENATE(SUM(E14:E15)," M2") -> 126 M2
A17: 5 | B17: Edificio Móvil 3 | D17: Área P.A. : | G17: =CONCATENATE("Total ", B17) -> Total Edificio Móvil 3
D18: Área P.B. : | E18: 126 | G18: =CONCATENATE(SUM(E17:E18)," M2") -> 126 M2
A20: 6 | B20: Edificio Móvil 4 | D20: Área P.A. : | G20: =CONCATENATE("Total ", B20) -> Total Edificio Móvil 4
B21: Biblioteca | D21: Área P.B. : | E21: 27 | G21: =CONCATENATE(SUM(E20:E21)," M2") -> 27 M2
A23: 7 | B23: Edificio 'C' | D23: Área P.A. : | G23: =CONCATENATE("Total ", B23) -> Total Edificio 'C' | I23: 3.19m x 5e-ejes | K23: 15.95 | L23: m
B24: 2 aulas didácticas | D24: Área P.B. : | E24: 162.69 | G24: =CONCATENATE(SUM(E23:E24)," M2") -> 162.69 M2 | I24: 15.95m x 10.20m | K24: 162.69 | L24: m2
A26: 8 | B26: Edificio Móvil 5 | D26: Área P.A. : | G26: =CONCATENATE("Total ", B26) -> Total Edificio Móvil 5 | I26: 24x60pies | J26: 7.32x18.29m | K26: 133.87 | L26: m2
B27: 2 aulas didácticas | D27: Área P.B. : | E27: 133.87 | G27: =CONCATENATE(SUM(E26:E27)," M2") -> 133.87 M2
B30: Total Edificios: | C30: =A26 -> 8 | D30: Área Total: | E30: =SUM(E4:E29) -> 1495.56

Sheet sf
B1: PLANTEL SAN FELIPE
B3: SUPERFICIES DE CONSTRUCCIÓN POR EDIFICIO
A5: 1 | B5: Edificio 'A' | D5: Área P.A. : | G5: =CONCATENATE("Total ", B5) -> Total Edificio 'A'
B6: administrativo | D6: Área P.B. : | E6: 260 | G6: =CONCATENATE(SUM(E5:E6)," M2") -> 260 M2
A8: 2 | B8: Edificio 'B' | D8: Área P.A. : | G8: =CONCATENATE("Total ", B8) -> Total Edificio 'B'
B9: biblioteca | D9: Área P.B. : | E9: 210 | G9: =CONCATENATE(SUM(E8:E9)," M2") -> 210 M2
A11: 3 | B11: Edificio 'C' | D11: Área P.A. : | G11: =CONCATENATE("Total ", B11) -> Total Edificio 'C'
B12: Teatro | D12: Área P.B. : | E12: 541 | G12: =CONCATENATE(SUM(E11:E12)," M2") -> 541 M2
A14: 4 | B14: Edificio 'D' | D14: Área P.A. : | E14: 223 | G14: =CONCATENATE("Total ", B14) -> Total Edificio 'D'
B15: Audiovisual | D15: Área P.B. : | E15: 223 | G15: =CONCATENATE(SUM(E14:E15)," M2") -> 446 M2
A17: 5 | B17: Edificio 'E' | D17: Área P.A. : | G17: =CONCATENATE("Total ", B17) -> Total Edificio 'E'
B18: Aulas | D18: Área P.B. : | E18: 374 | G18: =CONCATENATE(SUM(E17:E18)," M2") -> 374 M2
A20: 6 | B20: Edificio 'F' | D20: Área P.A. : | G20: =CONCATENATE("Total ", B20) -> Total Edificio 'F'
B21: sanitarios | D21: Área P.B. : | E21: 77 | G21: =CONCATENATE(SUM(E20:E21)," M2") -> 77 M2
A23: 7 | B23: Edificio 'G' | D23: Área P.A. : | E23: 415 | G23: =CONCATENATE("Total ", B23) -> Total Edificio 'G'
B24: Laboratorios | D24: Área P.B. : | E24: 450 | G24: =CONCATENATE(SUM(E23:E24)," M2") -> 865 M2
A26: 8 | B26: Edificio 'H' | D26: Área P.A. : | G26: =CONCATENATE("Total ", B26) -> Total Edificio 'H'
D27: Área P.B. : | E27: 108 | G27: =CONCATENATE(SUM(E26:E27)," M2") -> 108 M2
A29: 9 | B29: Edificio 'I' | D29: Área P.A. : | G29: =CONCATENATE("Total ", B29) -> Total Edificio 'I'
D30: Área P.B. : | E30: 173 | G30: =CONCATENATE(SUM(E29:E30)," M2") -> 173 M2
B33: Total Edificios: | C33: =A29 -> 9 | D33: Área Total: | E33: =SUM(E2:E30) -> 3054

Sheet tec
B1: PLANTEL TECATE
B3: SUPERFICIES DE CONSTRUCCIÓN POR EDIFICIO
A5: 1 | B5: Edificio 'A' | D5: Área P.A. : | E5: 417 | G5: =CONCATENATE("Total ", B5) -> Total Edificio 'A'
B6: Administrativo | D6: Área P.B. : | E6: 417 | G6: =CONCATENATE(SUM(E5:E6)," M2") -> 834 M2
A8: 2 | B8: Edificio 'B' | D8: Área P.A. : | E8: 685 | G8: =CONCATENATE("Total ", B8) -> Total Edificio 'B'
B9: Aulas | D9: Área P.B. : | E9: 685 | G9: =CONCATENATE(SUM(E8:E9)," M2") -> 1370 M2
A11: 3 | B11: Edificio 'C' | D11: Área P.A. : | E11: 135 | G11: =CONCATENATE("Total ", B11) -> Total Edificio 'C'
B12: Cafetería | D12: Área P.B. : | E12: 246 | G12: =CONCATENATE(SUM(E11:E12)," M2") -> 381 M2
A14: 4 | B14: Edificio 'D' | D14: Área P.A. : | E14: 289 | G14: =CONCATENATE("Total ", B14) -> Total Edificio 'D'
B15: Laboratorios | D15: Área P.B. : | E15: 289 | G15: =CONCATENATE(SUM(E14:E15)," M2") -> 578 M2
A17: 5 | B17: Edificio 'E' | D17: Área P.A. : | E17: 68.03 | G17: =CONCATENATE("Total ", B17) -> Total Edificio 'E'
B18: Danza y Musica | D18: Área P.B. : | E18: 129 | G18: =CONCATENATE(SUM(E17:E18)," M2") -> 197.03 M2
A20: 6 | B20: Edificio 'F' | G20: =CONCATENATE("Total ", B20) -> Total Edificio 'F'
B21: Oficina Cemsad Trab #3 | D21: Área P.B. : | E21: 30 | G21: =CONCATENATE(SUM(E20:E21)," M2") -> 30 M2
B23: Total Edificios: | C23: =A20 -> 6 | D23: Área Total: | E23: =SUM(E4:E22) -> 3390.03

Sheet rvv
B1: PLANTEL MTRO. RUBÉN VIZCAÍNO VALENCIA
B3: SUPERFICIES DE CONSTRUCCIÓN POR EDIFICIO
A5: 1 | B5: Edificio 'A' | D5: Área P.A. : | E5: 415 | G5: =CONCATENATE("Total ", B5) -> Total Edificio 'A'
B6: Administrativo | D6: Área P.B. : | E6: 415 | G6: =CONCATENATE(SUM(E5:E6)," M2") -> 830 M2
A8: 2 | B8: Edificio 'B' | D8: Área P.A. : | G8: =CONCATENATE("Total ", B8) -> Total Edificio 'B'
D9: Área P.B. : | E9: 340 | G9: =CONCATENATE(SUM(E8:E9)," M2") -> 340 M2
A11: 3 | B11: Edificio 'C' | D11: Área 3er Niv. : | E11: 382 | G11: =CONCATENATE("Total ", B11) -> Total Edificio 'C'
B12: 3 niveles | D12: Área 2do Niv. : | E12: 382 | G12: =CONCATENATE(SUM(E11:E13)," M2") -> 1146 M2
D13: Área P.Baja : | E13: 382
A15: 4 | B15: Edificio 'D' | D15: Área P.A. : | E15: 207 | G15: =CONCATENATE("Total ", B15) -> Total Edificio 'D'
B16: Biblioteca | D16: Área P.B. : | E16: 207 | G16: =CONCATENATE(SUM(E15:E16)," M2") -> 414 M2
A18: 5 | B18: Edificio 'E' | D18: Área P.A. : | G18: =CONCATENATE("Total ", B18) -> Total Edificio 'E'
B19: Audiovisual | D19: Área P.B. : | E19: 173 | G19: =CONCATENATE(SUM(E18:E19)," M2") -> 173 M2
A21: 6 | B21: Edificio 'F' | D21: Área P.A. : | G21: =CONCATENATE("Total ", B21) -> Total Edificio 'F'
B22: Cafetería | D22: Área P.B. : | E22: 161 | G22: =CONCATENATE(SUM(E21:E22)," M2") -> 161 M2
A24: 7 | B24: Edificio 'G' | D24: Área P.A. : | G24: =CONCATENATE("Total ", B24) -> Total Edificio 'G'
D25: Área P.B. : | E25: 297 | G25: =CONCATENATE(SUM(E24:E25)," M2") -> 297 M2
A27: 8 | B27: Edificio 'H' | D27: Área P.A. : | G27: =CONCATENATE("Total ", B27) -> Total Edificio 'H'
D28: Área P.B. : | E28: 273 | G28: =CONCATENATE(SUM(E27:E28)," M2") -> 273 M2
A30: 9 | B30: Edificio 'I' | D30: Área P.A. : | E30: 176 | G30: =CONCATENATE("Total ", B30) -> Total Edificio 'I'
D31: Área P.B. : | E31: 176 | G31: =CONCATENATE(SUM(E30:E31)," M2") -> 352 M2
A33: 10 | B33: Edificio 'J' | D33: Área P.A. : | G33: =CONCATENATE("Total ", B33) -> Total Edificio 'J'
D34: Área P.B. : | E34: 244 | G34: =CONCATENATE(SUM(E33:E34)," M2") -> 244 M2
A36: 11 | B36: Edificio 'K' | D36: Área P.A. : | G36: =CONCATENATE("Total ", B36) -> Total Edificio 'K'
D37: Área P.B. : | E37: 207 | G37: =CONCATENATE(SUM(E36:E37)," M2") -> 207 M2
A39: 12 | B39: Edificio 'L' | D39: Área P.A. : | G39: =CONCATENATE("Total ", B39) -> Total Edificio 'L'
B40: Cafetería 2 (puesto) | D40: Área P.B. : | E40: 176 | G40: =CONCATENATE(SUM(E39:E40)," M2") -> 176 M2
B43: Total Edificios: | C43: =A39 -> 12 | D43: Área Total: | E43: =SUM(E4:E42) -> 4613

Sheet lm
B1: PLANTEL LA MESA
B3: SUPERFICIES DE CONSTRUCCIÓN POR EDIFICIO
A5: 1 | B5: Edificio 'A' | D5: Área P.A. : | G5: =CONCATENATE("Total ", B5) -> Total Edificio 'A'
B6: Administrativo | D6: Área P.B. : | E6: 324 | G6: =CONCATENATE(SUM(E5:E6)," M2") -> 324 M2
A8: 2 | B8: Edificio 'B' | D8: Área P.A. : | G8: =CONCATENATE("Total ", B8) -> Total Edificio 'B'
B9: idiomas | D9: Área P.B. : | E9: 107 | G9: =CONCATENATE(SUM(E8:E9)," M2") -> 107 M2
A11: 3 | B11: Edificio 'C' | D11: Área P.A. : | E11: 246 | G11: =CONCATENATE("Total ", B11) -> Total Edificio 'C'
B12: Audiovisual | D12: Área P.B. : | E12: 246 | G12: =CONCATENATE(SUM(E11:E12)," M2") -> 492 M2
A14: 4 | B14: Edificio 'D' | D14: Área P.A. : | G14: =CONCATENATE("Total ", B14) -> Total Edificio 'D'
B15: Cafetería | D15: Área P.B. : | E15: 114 | G15: =CONCATENATE(SUM(E14:E15)," M2") -> 114 M2
A17: 5 | B17: Edificio 'E' | D17: Área P.A. : | E17: 382 | G17: =CONCATENATE("Total ", B17) -> Total Edificio 'E'
B18: 8 aulas | D18: Área P.B. : | E18: 382 | G18: =CONCATENATE(SUM(E17:E18)," M2") -> 764 M2
A20: 6 | B20: Edificio 'F' | D20: Área P.A. : | G20: =CONCATENATE("Total ", B20) -> Total Edificio 'F'
B21: Cubículos | D21: Área P.B. : | E21: 655 | G21: =CONCATENATE(SUM(E20:E21)," M2") -> 655 M2
A23: 7 | B23: Edificio 'G' | D23: Área 3er Niv. : | E23: 455 | G23: =CONCATENATE("Total ", B23) -> Total Edificio 'G'
B24: 3 niveles | D24: Área 2do Niv. : | E24: 455 | G24: =CONCATENATE(SUM(E23:E25)," M2") -> 1365 M2
D25: Área P.Baja : | E25: 455
A27: 8 | B27: Edificio 'H' | D27: Área P.A. : | G27: =CONCATENATE("Total ", B27) -> Total Edificio 'H'
B28: Laboratorio Informatica | D28: Área P.B. : | E28: 235 | G28: =CONCATENATE(SUM(E27:E28)," M2") -> 235 M2
B30: Total Edificios: | C30: =COUNT(A5:A29) -> 8 | D30: Área Total: | E30: =SUM(E4:E29) -> 4056

Sheet xxi
B1: PLANTEL SIGLO XXI
B3: SUPERFICIES DE CONSTRUCCIÓN POR EDIFICIO
A5: 1 | B5: Edificio 'A' | D5: Área 3er Niv. : | E5: 332 | G5: =CONCATENATE("Total ", B5) -> Total Edificio 'A'
D6: Área 2do Niv. : | E6: 332 | G6: =CONCATENATE(SUM(E5:E7)," M2") -> 996 M2
D7: Área P.B. : | E7: 332
A9: 2 | B9: Edificio 'B' | D9: Área 3er Niv. : | E9: 432 | G9: =CONCATENATE("Total ", B9) -> Total Edificio 'B'
D10: Área 2do Niv. : | E10: 432 | G10: =CONCATENATE(SUM(E9:E11)," M2") -> 1296 M2
D11: Área P.B. : | E11: 432
A13: 3 | B13: Edificio 'C' | D13: Área 3er Niv. : | E13: 347 | G13: =CONCATENATE("Total ", B13) -> Total Edificio 'C'
D14: Área 2do Niv. : | E14: 347 | G14: =CONCATENATE(SUM(E13:E15)," M2") -> 1041 M2
D15: Área P.B. : | E15: 347
A17: 4 | B17: Administrativo | D17: Área P.A. : | E17: 393 | G17: =CONCATENATE("Total ", B17) -> Total Administrativo
D18: Área P.B. : | E18: 688 | G18: =CONCATENATE(SUM(E17:E18)," M2") -> 1081 M2
A20: 5 | B20: Edificio 'D' | D20: Área P.A. : | G20: =CONCATENATE("Total ", B20) -> Total Edificio 'D'
B21: Cafetería | D21: Área P.B. : | E21: 481 | G21: =CONCATENATE(SUM(E20:E21)," M2") -> 481 M2
A23: 6 | B23: Edificio 'F' | D23: Área P.A. : | G23: =CONCATENATE("Total ", B23) -> Total Edificio 'F'
B24: Gimnasio | D24: Área P.B. : | E24: 1481 | G24: =CONCATENATE(SUM(E23:E24)," M2") -> 1481 M2
A26: 7 | B26: Edificio 'G' | D26: Área P.A. : | G26: =CONCATENATE("Total ", B26) -> Total Edificio 'G'
B27: Cubiculos | D27: Área P.B. : | E27: 124 | G27: =CONCATENATE(SUM(E26:E27)," M2") -> 124 M2
B29: Total Edificios: | C29: =COUNT(A4:A28) -> 7 | D29: Área Total: | E29: =SUM(E3:E28) -> 6500

Sheet ros
B1: PLANTEL ROSARITO
B3: SUPERFICIES DE CONSTRUCCIÓN POR EDIFICIO
A5: 1 | B5: Edificio 'A' | D5: Área P.A. : | G5: =CONCATENATE("Total ", B5) -> Total Edificio 'A'
B6: Administrativo | D6: Área P.B. : | E6: 288 | G6: =CONCATENATE(SUM(E5:E6)," M2") -> 288 M2
A8: 2 | B8: EDIFICIO "B" | D8: AREA P. B. : | E8: 343 | G8: =CONCATENATE("Total ", B8) -> Total EDIFICIO "B"
D9: AREA P. A. : | E9: 343 | G9: =CONCATENATE(SUM(E8:E9)," M2") -> 686 M2
A11: 3 | B11: EDIFICIO "C" | D11: AREA P. B. : | E11: 210 | G11: =CONCATENATE("Total ", B11) -> Total EDIFICIO "C"
G12: =CONCATENATE(SUM(E11:E12)," M2") -> 210 M2
A14: 4 | B14: EDIFICIO "D" | D14: AREA P. B. : | E14: 106 | G14: =CONCATENATE("Total ", B14) -> Total EDIFICIO "D"
G15: =CONCATENATE(SUM(E14:E15)," M2") -> 106 M2
A17: 5 | B17: EDIFICIO "E" | D17: AREA P. B. : | E17: 236 | G17: =CONCATENATE("Total ", B17) -> Total EDIFICIO "E"
G18: =CONCATENATE(SUM(E17:E18)," M2") -> 236 M2
A20: 6 | B20: EDIFICIO "F" | D20: AREA P. B. : | E20: 132 | G20: =CONCATENATE("Total ", B20) -> Total EDIFICIO "F"
B21: biblioteca | G21: =CONCATENATE(SUM(E20:E21)," M2") -> 132 M2
A23: 7 | B23: EDIFICIO "G" | D23: AREA P. B. : | E23: 210 | G23: =CONCATENATE("Total ", B23) -> Total EDIFICIO "G"
D24: AREA P. A. : | E24: 158 | G24: =CONCATENATE(SUM(E23:E24)," M2") -> 368 M2
A26: 8 | B26: EDIFICIO "H" | D26: AREA P. B. : | E26: 115 | G26: =CONCATENATE("Total ", B26) -> Total EDIFICIO "H"
B27: cafetería | G27: =CONCATENATE(SUM(E26:E27)," M2") -> 115 M2
A29: 9 | B29: EDIFICIO "I" | D29: AREA P. B. : | E29: 132 | G29: =CONCATENATE("Total ", B29) -> Total EDIFICIO "I"
G30: =CONCATENATE(SUM(E29:E30)," M2") -> 132 M2
A32: 10 | B32: EDIFICIO "J" | D32: AREA P. B. : | E32: 145 | G32: =CONCATENATE("Total ", B32) -> Total EDIFICIO "J"
B33: audiovisual | G33: =CONCATENATE(SUM(E32:E33)," M2") -> 145 M2
A35: 11 | B35: EDIFICIO "K" | D35: AREA P. B. : | E35: 1122 | G35: =CONCATENATE("Total ", B35) -> Total EDIFICIO "K"
B36: Gimnasio | G36: =CONCATENATE(SUM(E35:E36)," M2") -> 1122 M2
A39: Total Edificios: | C39: =COUNT(A5:A35) -> 11 | D39: AREA TOTAL: | E39: =SUM(E5:E36) -> 3540

Sheet 1 apr
B1: PLANTEL 1ER AYUNTAMIENTO
B3: SUPERFICIES DE CONSTRUCCIÓN POR EDIFICIO
A5: 1 | B5: EDIFICIO "A" | D5: 1er Nivel | E5: 333 | G5: =CONCATENATE("Total ", B5) -> Total EDIFICIO "A"
D6: 2do Nivel | E6: 333
D7: 3er Nivel | E7: 333 | G7: =CONCATENATE(SUM(E6:E7)," M2") -> 666 M2
A9: 2 | B9: EDIFICIO "B" | D9: 1er Nivel | E9: 432 | G9: =CONCATENATE("Total ", B9) -> Total EDIFICIO "B"
D10: 2do Nivel | E10: 432
D11: 3er Nivel | E11: 432 | G11: =CONCATENATE(SUM(E10:E11)," M2") -> 864 M2
A13: 3 | B13: EDIFICIO "C" | D13: 1er Nivel | E13: 258 | G13: =CONCATENATE("Total ", B13) -> Total EDIFICIO "C"
D14: 2do Nivel | E14: 258
D15: 3er Nivel | E15: 258 | G15: =CONCATENATE(SUM(E14:E15)," M2") -> 516 M2
A17: 4 | B17: EDIFICIO "D" | D17: Área P.B. | E17: 261 | G17: =CONCATENATE("Total ", B17) -> Total EDIFICIO "D"
G18: =CONCATENATE(SUM(E17:E18)," M2") -> 261 M2
A20: 5 | B20: EDIFICIO "E" | D20: Área P.B. | E20: 261 | G20: =CONCATENATE("Total ", B20) -> Total EDIFICIO "E"
G21: =CONCATENATE(SUM(E20:E21)," M2") -> 261 M2
A23: 6 | B23: EDIFICIO "F" | D23: Área P.B. | E23: 64 | G23: =CONCATENATE("Total ", B23) -> Total EDIFICIO "F"
B24: Cafeteria | G24: =CONCATENATE(SUM(E23:E24)," M2") -> 64 M2
A26: 7 | B26: EDIFICIO "G" | D26: Área P.B. | E26: 200 | G26: =CONCATENATE("Total ", B26) -> Total EDIFICIO "G"
B27: Aula-Dirección | G27: =CONCATENATE(SUM(E26:E27)," M2") -> 200 M2
B31: Total Edificios: | C31: =COUNT(A5:A26) -> 7 | D31: AREA TOTAL: | E31: =SUM(E5:E27) -> 3855

Sheet ens
B1: PLANTEL ENSENADA
B3: SUPERFICIES DE CONSTRUCCIÓN POR EDIFICIO
A5: 1 | B5: EDIFICIO "A" | D5: AREA P. B. : | G5: =CONCATENATE("Total ", B5) -> Total EDIFICIO "A"
B6: Dirección | D6: AREA P. A. : | E6: 544 | G6: =CONCATENATE(SUM(E5:E6)," M2") -> 544 M2
A9: 2 | B9: EDIFICIO "B" | D9: AREA P. B. : | E9: 464 | G9: =CONCATENATE("Total ", B9) -> Total EDIFICIO "B"
D10: AREA P. A. : | E10: 464 | G10: =CONCATENATE(SUM(E9:E10)," M2") -> 928 M2
A13: 3 | B13: EDIFICIO "C" | D13: AREA P. B. : | E13: 413 | G13: =CONCATENATE("Total ", B13) -> Total EDIFICIO "C"
D14: AREA P. A. : | G14: =CONCATENATE(SUM(E13:E14)," M2") -> 413 M2
A17: 4 | B17: EDIFICIO "D" | D17: AREA P. B. : | E17: 244 | G17: =CONCATENATE("Total ", B17) -> Total EDIFICIO "D"
B18: Audiovisual | D18: AREA P. A. : | G18: =CONCATENATE(SUM(E17:E18)," M2") -> 244 M2
A21: 5 | B21: EDIFICIO "E" | D21: AREA P. B. : | E21: 803 | G21: =CONCATENATE("Total ", B21) -> Total EDIFICIO "E"
D22: AREA P. A. : | E22: 803 | G22: =CONCATENATE(SUM(E21:E22)," M2") -> 1606 M2
A25: 6 | B25: EDIFICIO "F" | D25: AREA P. B. : | E25: 315 | G25: =CONCATENATE("Total ", B25) -> Total EDIFICIO "F"
B26: Biblioteca | D26: AREA P. A. : | E26: 315 | G26: =CONCATENATE(SUM(E25:E26)," M2") -> 630 M2
A29: 7 | B29: EDIFICIO "G" | D29: AREA P. B. : | E29: 368 | G29: =CONCATENATE("Total ", B29) -> Total EDIFICIO "G"
D30: AREA P. A. : | G30: =CONCATENATE(SUM(E29:E30)," M2") -> 368 M2
A33: 8 | B33: EDIFICIO "H" | D33: AREA P. B. : | E33: 328 | G33: =CONCATENATE("Total ", B33) -> Total EDIFICIO "H"
D34: AREA P. A. : | G34: =CONCATENATE(SUM(E33:E34)," M2") -> 328 M2
A37: 9 | B37: EDIFICIO "I" | D37: AREA P. B. : | E37: 290 | G37: =CONCATENATE("Total ", B37) -> Total EDIFICIO "I"
D38: AREA P. A. : | G38: =CONCATENATE(SUM(E37:E38)," M2") -> 290 M2
A41: 10 | B41: EDIFICIO "J" | D41: AREA P. B. : | E41: 195 | G41: =CONCATENATE("Total ", B41) -> Total EDIFICIO "J"
B42: Cafeteria | D42: AREA P. A. : | G42: =CONCATENATE(SUM(E41:E42)," M2") -> 195 M2
A45: 11 | B45: EDIFICIO "K" | D45: AREA P. B. : | E45: 731 | G45: =CONCATENATE("Total ", B45) -> Total EDIFICIO "K"
D46: AREA P. A. : | G46: =CONCATENATE(SUM(E45:E46)," M2") -> 731 M2
A48: 12 | B48: EDIFICIO "L" | D48: AREA P. B. : | E48: 91 | G48: =CONCATENATE("Total ", B48) -> Total EDIFICIO "L"
B49: Cubiculos | D49: AREA P. A. : | G49: =CONCATENATE(SUM(E48:E49)," M2") -> 91 M2
A51: 13 | B51: EDIFICIO "M" | D51: AREA P. B. : | E51: 85 | G51: =CONCATENATE("Total ", B51) -> Total EDIFICIO "M"
B52: Sanitarios | D52: AREA P. A. : | G52: =CONCATENATE(SUM(E51:E52)," M2") -> 85 M2
B55: Total Edificios: | C55: =COUNT(A5:A51) -> 13 | D55: Área Total: | E55: =SUM(E5:E52) -> 6453

Sheet sq
B2: PLANTEL SAN QUINTÍN
B4: SUPERFICIES DE CONSTRUCCIÓN POR EDIFICIO
A6: 1 | B6: EDIFICIO "A" | D6: AREA P. B. : | E6: 158 | G6: =CONCATENATE("Total ", B6) -> Total EDIFICIO "A"
D7: AREA P. A. : | G7: =CONCATENATE(SUM(E6:E8)," M2") -> 158 M2
A10: 2 | B10: EDIFICIO "B" | D10: AREA P. B. : | E10: 262 | G10: =CONCATENATE("Total ", B10) -> Total EDIFICIO "B"
D11: AREA P. A. : | G11: =CONCATENATE(SUM(E10:E12)," M2") -> 262 M2
A14: 3 | B14: EDIFICIO "C" | D14: AREA P. B. : | E14: 258 | G14: =CONCATENATE("Total ", B14) -> Total EDIFICIO "C"
D15: AREA P. A. : | G15: =CONCATENATE(SUM(E14:E16)," M2") -> 258 M2
A18: 4 | B18: EDIFICIO "D" | D18: AREA P. B. : | E18: 184 | G18: =CONCATENATE("Total ", B18) -> Total EDIFICIO "D"
D19: AREA P. A. : | G19: =CONCATENATE(SUM(E18:E20)," M2") -> 184 M2
A22: 5 | B22: EDIFICIO "E" | D22: AREA P. B. : | E22: 284 | G22: =CONCATENATE("Total ", B22) -> Total EDIFICIO "E"
D23: AREA P. A. : | G23: =CONCATENATE(SUM(E22:E24)," M2") -> 284 M2
A26: 6 | B26: EDIFICIO "F" | D26: AREA P. B. : | E26: 242 | G26: =CONCATENATE("Total ", B26) -> Total EDIFICIO "F"
D27: AREA P. A. : | G27: =CONCATENATE(SUM(E26:E28)," M2") -> 242 M2
A30: 7 | B30: AUDIOVISUAL | D30: AREA P. B. : | E30: 133 | G30: =CONCATENATE("Total ", B30) -> Total AUDIOVISUAL
D31: AREA P. A. : | G31: =CONCATENATE(SUM(E30:E32)," M2") -> 133 M2
A33: 8 | B33: AUDIOVISUAL | D33: AREA P. B. : | E33: 133 | G33: =CONCATENATE("Total ", B33) -> Total AUDIOVISUAL
D34: AREA P. A. : | G34: =CONCATENATE(SUM(E33:E35)," M2") -> 133 M2
A36: 9 | B36: MODULO SANITARIOS | D36: AREA P. B. : | E36: 76 | G36: =CONCATENATE("Total ", B36) -> Total MODULO SANITARIOS
D37: AREA P. A. : | G37: =CONCATENATE(SUM(E36:E38)," M2") -> 76 M2
B40: Total Edificios: | C40: =COUNT(A6:A36) -> 9 | D40: Área Total: | E40: =SUM(E6:E36) -> 1730

Sheet cam
B2: PLANTEL CAMALÚ
B4: SUPERFICIES DE CONSTRUCCIÓN POR EDIFICIO
A6: 1 | B6: EDIFICIO "A" | D6: AREA P. B. : | E6: 133 | G6: =CONCATENATE("Total ", B6) -> Total EDIFICIO "A"
B7: Dirección (traila movil) | D7: AREA P. A. : | G7: =CONCATENATE(SUM(E6:E8)," M2") -> 133 M2
A10: 2 | B10: EDIFICIO "B" | D10: AREA P. B. : | E10: 133 | G10: =CONCATENATE("Total ", B10) -> Total EDIFICIO "B"
B11: Laboratorio Sanitarios (traila movil) | D11: AREA P. A. : | G11: =CONCATENATE(SUM(E10:E12)," M2") -> 133 M2
A14: 3 | B14: EDIFICIO "C" | D14: AREA P. B. : | E14: 133 | G14: =CONCATENATE("Total ", B14) -> Total EDIFICIO "C"
B15: Aulas (traila movil) | D15: AREA P. A. : | G15: =CONCATENATE(SUM(E14:E16)," M2") -> 133 M2
A18: 4 | B18: EDIFICIO "D" | D18: AREA P. B. : | E18: 133 | G18: =CONCATENATE("Total ", B18) -> Total EDIFICIO "D"
B19: Aulas (traila movil) | D19: AREA P. A. : | G19: =CONCATENATE(SUM(E18:E20)," M2") -> 133 M2
A22: 5 | B22: EDIFICIO "E" | D22: AREA P. B. : | E22: 133 | G22: =CONCATENATE("Total ", B22) -> Total EDIFICIO "E"
B23: Aulas (traila movil) | D23: AREA P. A. : | G23: =CONCATENATE(SUM(E22:E24)," M2") -> 133 M2
A26: 6 | B26: EDIFICIO "F" | D26: AREA P. B. : | E26: 133 | G26: =CONCATENATE("Total ", B26) -> Total EDIFICIO "F"
B27: Aulas (traila movil) | D27: AREA P. A. : | G27: =CONCATENATE(SUM(E26:E28)," M2") -> 133 M2
A30: 7 | B30: EDIFICIO "G" | D30: AREA P. B. : | E30: 133 | G30: =CONCATENATE("Total ", B30) -> Total EDIFICIO "G"
B31: Biblioteca (traila movil) | D31: AREA P. A. : | G31: =CONCATENATE(SUM(E30:E32)," M2") -> 133 M2
A33: 8 | B33: EDIFICIO "H" | D33: AREA P. B. : | E33: 220 | G33: =CONCATENATE("Total ", B33) -> Total EDIFICIO "H"
B34: Aulas | D34: AREA P. A. : | G34: =CONCATENATE(SUM(E33:E35)," M2") -> 220 M2
J35: edificio en construccion y un aula movil del florido
B37: Total Edificios: | C37: =COUNT(A6:A33) -> 8 | D37: Área Total: | E37: =SUM(E6:E34) -> 1151

Sheet nt
B1: PLANTEL NUEVA TIJUANA
B3: SUPERFICIES DE CONSTRUCCIÓN POR EDIFICIO
A5: 1 | B5: Edificio 'A' | D5: Área 3er Niv. : | E5: 332 | G5: =CONCATENATE("Total ", B5) -> Total Edificio 'A'
D6: Área 2do Niv. : | E6: 332 | G6: =CONCATENATE(SUM(E5:E7)," M2") -> 996 M2
D7: Área P.B. : | E7: 332
A9: 2 | B9: Edificio 'B' | D9: Área 3er Niv. : | E9: 432 | G9: =CONCATENATE("Total ", B9) -> Total Edificio 'B'
D10: Área 2do Niv. : | E10: 432 | G10: =CONCATENATE(SUM(E9:E11)," M2") -> 1296 M2
D11: Área P.B. : | E11: 432
A13: 3 | B13: Edificio 'C' | D13: Área 3er Niv. : | E13: 347 | G13: =CONCATENATE("Total ", B13) -> Total Edificio 'C'
D14: Área 2do Niv. : | E14: 347 | G14: =CONCATENATE(SUM(E13:E15)," M2") -> 1041 M2
D15: Área P.B. : | E15: 347
A17: 4 | B17: Edificio 'D' | D17: Área P.A. : | G17: =CONCATENATE("Total ", B17) -> Total Edificio 'D'
B18: Cafetería | D18: Área P.B. : | E18: 481 | G18: =CONCATENATE(SUM(E17:E18)," M2") -> 481 M2
A20: 5 | B20: Administrativo | D20: Área P.A. : | E20: 393 | G20: =CONCATENATE("Total ", B20) -> Total Administrativo
D21: Área P.B. : | E21: 688 | G21: =CONCATENATE(SUM(E20:E21)," M2") -> 1081 M2
A23: 6 | B23: Edificio 'E' | D23: Área P.A. : | G23: =CONCATENATE("Total ", B23) -> Total Edificio 'E'
B24: Aula (traila movil) | D24: Área P.B. : | E24: 133 | G24: =CONCATENATE(SUM(E23:E24)," M2") -> 133 M2
A26: 7 | B26: Edificio 'F' | D26: Área P.A. : | G26: =CONCATENATE("Total ", B26) -> Total Edificio 'F'
B27: Aula (traila movil) | D27: Área P.B. : | E27: 133 | G27: =CONCATENATE(SUM(E26:E27)," M2") -> 133 M2
A29: 8 | B29: Edificio 'G' | D29: Área P.A. : | G29: =CONCATENATE("Total ", B29) -> Total Edificio 'G'
B30: Aula (traila movil) | D30: Área P.B. : | E30: 133 | G30: =CONCATENATE(SUM(E29:E30)," M2") -> 133 M2
A32: 9 | B32: Edificio 'H' | D32: Área P.A. : | G32: =CONCATENATE("Total ", B32) -> Total Edificio 'H'
B33: Oficina SINDICATO Profesores (traila movil) | D33: Área P.B. : | E33: 89 | G33: =CONCATENATE(SUM(E32:E33)," M2") -> 89 M2
J34: edificios nuevos faltan
B35: Total Edificios: | C35: =COUNT(A5:A32) -> 9 | D35: Área Total: | E35: =SUM(E5:E33) -> 5383 | J35: falta 102.48m2 de las gradas-almacen

Sheet advr
B1: PLANTEL PROFESOR ARTURO DAVID VELÁZQUEZ RIVERA
B3: SUPERFICIES DE CONSTRUCCIÓN POR EDIFICIO
A5: 1 | B5: EDIFICIO "A" | D5: 1ER NIVEL | E5: 333 | G5: =CONCATENATE("Total ", B5) -> Total EDIFICIO "A"
D6: 2DO NIVEL | E6: 333 | G6: =CONCATENATE(SUM(E5:E7)," M2") -> 999 M2
D7: 3ER NIVEL | E7: 333
A9: 2 | B9: EDIFICIO "B" | D9: 1ER NIVEL | E9: 432 | G9: =CONCATENATE("Total ", B9) -> Total EDIFICIO "B"
D10: 2DO NIVEL | E10: 432 | G10: =CONCATENATE(SUM(E9:E11)," M2") -> 1296 M2
D11: 3ER NIVEL | E11: 432
A13: 3 | B13: EDIFICIO "D" | D13: AREA P. B. : | E13: 126 | G13: =CONCATENATE("Total ", B13) -> Total EDIFICIO "D"
B14: Biblioteca | G14: =CONCATENATE(SUM(E13:E14)," M2") -> 126 M2
A16: 4 | B16: EDIFICIO "E" | D16: AREA P. B. : | E16: 66 | G16: =CONCATENATE("Total ", B16) -> Total EDIFICIO "E"
B17: Traila movil | G17: =CONCATENATE(SUM(E16:E17)," M2") -> 66 M2
B21: Total Edificios: | C21: =COUNT(A5:A16) -> 4 | D21: Área Total: | E21: =SUM(E5:E17) -> 2487

Sheet ext-xxi
C2: PLANTEL: EXTENSIÓN SIGLO XXI (Cañon K)
C4: SUPERFICIES DE CONSTRUCCIÓN POR EDIFICIO
B6: 1 | C6: Edificio 'A' | E6: Área P.A. : | H6: =CONCATENATE("Total ", C6) -> Total Edificio 'A'
C7: Aulas-Dirección | E7: Área P.B. : | F7: 271 | H7: =CONCATENATE(SUM(F6:F7)," M2") -> 271 M2
B9: 2 | C9: Edificio 'B' | E9: Área P.A. : | H9: =CONCATENATE("Total ", C9) -> Total Edificio 'B'
C10: Aulas | E10: Área P.B. : | F10: 271 | H10: =CONCATENATE(SUM(F9:F10)," M2") -> 271 M2
B12: 3 | C12: Edificio 'C' | E12: Área P.A. : | F12: 207 | H12: =CONCATENATE("Total ", C12) -> Total Edificio 'C'
C13: Aulas-Sanitarios | E13: Área P.B. : | F13: 207 | H13: =CONCATENATE(SUM(F12:F13)," M2") -> 414 M2
C16: Total Edificios: | D16: =COUNT(B6:B16) -> 3 | E16: Área Total: | F16: =SUM(F5:F15) -> 956

Sheet cem-rc
B2: CEMSAD REAL DEL CASTILLO
B4: SUPERFICIES DE CONSTRUCCIÓN POR EDIFICIO
A7: 1 | B7: EDIFICIO "A" | D7: AREA P. B. : | E7: 76 | G7: =E7 -> 76
B8: TRAILA MOVIL
A11: 2 | B11: EDIFICIO "B" | D11: AREA P. B. : | E11: 117 | G11: =E11 -> 117
B12: ESTRUCTURA LIGERA
A14: 3 | B14: EDIFICIO "C" | D14: AREA P. B. : | E14: 267 | G14: =E14 -> 267
B15: ESTRUCTURA LIGERA
A17: 4 | B17: EDIFICIO "D" | D17: AREA P. B. : | E17: 38 | G17: =E17 -> 38
B18: ESTRUCTURA LIGERA
A20: 5 | B20: EDIFICIO "E" | D20: AREA P. B. : | E20: 198 | G20: =E20 -> 198
B21: ESTRUCTURA U-1C
A23: 6 | B23: EDIFICIO "F" | D23: AREA P. B. : | E23: 126 | G23: =E23 -> 126
B24: ESTRUCTURA U-1C
F25: TOTAL: | G25: =SUM(G7:H23) -> 822
J26: falta edif tutorias
B27: Total Edificios: | C27: =COUNT(A7:A23) -> 6 | D27: Área Total: | E27: =SUM(E7:E24) -> 822

Sheet cem-vt
B2: CEMSAD VALLE DE LA TRINIDAD
B4: SUPERFICIES DE CONSTRUCCIÓN POR EDIFICIO
A7: 1 | B7: EDIFICIO "A" | D7: AREA P. B. : | E7: 132 | G7: =CONCATENATE("Total ", B7) -> Total EDIFICIO "A"
B8: ESTRUCTURA LIGERA | G8: =CONCATENATE(SUM(E7:E8)," M2") -> 132 M2
A11: 2 | B11: EDIFICIO "B" | D11: AREA P. B. : | E11: 263 | G11: =CONCATENATE("Total ", B11) -> Total EDIFICIO "B"
B12: ESTRUCTURA LIGERA | G12: =CONCATENATE(SUM(E11:E12)," M2") -> 263 M2
A14: 3 | B14: EDIFICIO "C" | D14: AREA P. B. : | E14: 374 | G14: =CONCATENATE("Total ", B14) -> Total EDIFICIO "C"
B15: ESTRUCTURA LIGERA | G15: =CONCATENATE(SUM(E14:E15)," M2") -> 374 M2
A17: 4 | B17: EDIFICIO "D" | D17: AREA P. B. : | E17: 27 | G17: =CONCATENATE("Total ", B17) -> Total EDIFICIO "D"
B18: TRAILA MOVIL | G18: =CONCATENATE(SUM(E17:E18)," M2") -> 27 M2
A20: 5 | B20: EDIFICIO "E" | D20: AREA P. B. : | E20: 54 | G20: =CONCATENATE("Total ", B20) -> Total EDIFICIO "E"
B21: TRAILA MOVIL | G21: =CONCATENATE(SUM(E20:E21)," M2") -> 54 M2
B24: Total Edificios: | C24: =COUNT(A6:A20) -> 5 | D24: Área Total: | E24: =SUM(E7:E20) -> 850

Sheet t
C2: PLANTEL: TIJUANA
C4: SUPERFICIES DE CONSTRUCCIÓN POR EDIFICIO
B6: 1 | C6: Edificio 'A' | E6: Área P.A. : | H6: =CONCATENATE("Total ", C6) -> Total Edificio 'A'
C7: Dirección (traila movil) | E7: Área P.B. : | F7: 89 | H7: =CONCATENATE(SUM(F6:F7)," M2") -> 89 M2
B9: 2 | C9: Edificio 'B' | E9: Área P.A. : | H9: =CONCATENATE("Total ", C9) -> Total Edificio 'B'
C10: Lab. Informatica (traila movil) | E10: Área P.B. : | F10: 89 | H10: =CONCATENATE(SUM(F9:F10)," M2") -> 89 M2
B12: 3 | C12: Edificio 'C' | E12: Área P.A. : | H12: =CONCATENATE("Total ", C12) -> Total Edificio 'C'
C13: Aula (traila movil) | E13: Área P.B. : | F13: 89 | H13: =CONCATENATE(SUM(F12:F13)," M2") -> 89 M2
B15: 4 | C15: Edificio 'D' | E15: Área P.A. : | H15: =CONCATENATE("Total ", C15) -> Total Edificio 'D'
C16: Aula (traila movil) | E16: Área P.B. : | F16: 89 | H16: =CONCATENATE(SUM(F15:F16)," M2") -> 89 M2
B18: 5 | C18: Edificio 'E' | E18: Área P.A. : | H18: =CONCATENATE("Total ", C18) -> Total Edificio 'E'
C19: Aula (traila movil) | E19: Área P.B. : | F19: 89 | H19: =CONCATENATE(SUM(F18:F19)," M2") -> 89 M2
B21: 6 | C21: Edificio 'F' | E21: Área P.A. : | H21: =CONCATENATE("Total ", C21) -> Total Edificio 'F'
C22: Aula (traila movil) | E22: Área P.B. : | F22: 89 | H22: =CONCATENATE(SUM(F21:F22)," M2") -> 89 M2
B24: 7 | C24: Edificio 'G' | E24: Área P.A. : | H24: =CONCATENATE("Total ", C24) -> Total Edificio 'G'
C25: Aula (traila movil) | E25: Área P.B. : | F25: 89 | H25: =CONCATENATE(SUM(F24:F25)," M2") -> 89 M2
B27: 8 | C27: Edificio 'H' | E27: Área P.A. : | H27: =CONCATENATE("Total ", C27) -> Total Edificio 'H'
C28: Aula (traila movil) | E28: Área P.B. : | F28: 89 | H28: =CONCATENATE(SUM(F27:F28)," M2") -> 89 M2
B30: 9 | C30: Edificio 'I' | E30: Área P.A. : | H30: =CONCATENATE("Total ", C30) -> Total Edificio 'I'
C31: Aula (traila movil) | E31: Área P.B. : | F31: 89 | H31: =CONCATENATE(SUM(F30:F31)," M2") -> 89 M2
B33: 10 | C33: Edificio 'J' | E33: Área P.A. : | H33: =CONCATENATE("Total ", C33) -> Total Edificio 'J'
C34: Aula (traila movil doble) | E34: Área P.B. : | F34: 133 | H34: =CONCATENATE(SUM(F33:F34)," M2") -> 133 M2
B36: 11 | C36: Edificio 'K' | E36: Área P.A. : | H36: =CONCATENATE("Total ", C36) -> Total Edificio 'K'
C37: Aula (traila movil doble) | E37: Área P.B. : | F37: 133 | H37: =CONCATENATE(SUM(F36:F37)," M2") -> 133 M2
B39: 12 | C39: Edificio 'L' | E39: Área P.A. : | H39: =CONCATENATE("Total ", C39) -> Total Edificio 'L'
C40: Sanitarios (traila movil) | E40: Área P.B. : | F40: 44 | H40: =CONCATENATE(SUM(F39:F40)," M2") -> 44 M2
C43: Total Edificios: | D43: =COUNT(B6:B39) -> 12 | E43: Área Total: | F43: =SUM(F5:F42) -> 1111

Sheet ext.rvv
C2: PLANTEL: EXTENSIÓN MAESTRO RUBÉN VIZCAÍNO VALENCIA (Camino verde)
C4: SUPERFICIES DE CONSTRUCCIÓN POR EDIFICIO
B6: 1 | C6: Edificio 'A' | E6: Área P.A. : | H6: =CONCATENATE("Total ", C6) -> Total Edificio 'A'
C7: Aulas-Dirección (Edificio de Madera) | E7: Área P.B. : | F7: 190 | H7: =CONCATENATE(SUM(F6:F7)," M2") -> 190 M2
B9: 2 | C9: Edificio 'B' | E9: Área P.A. : | H9: =CONCATENATE("Total ", C9) -> Total Edificio 'B'
C10: Aulas-Sanitarios (Edificio de Madera) | E10: Área P.B. : | F10: 190 | H10: =CONCATENATE(SUM(F9:F10)," M2") -> 190 M2
C13: Total Edificios: | D13: =COUNT(B6:B9) -> 2 | E13: Área Total: | F13: =SUM(F5:F12) -> 380

Sheet flor
B1: PLANTEL EL FLORIDO
B3: SUPERFICIES DE CONSTRUCCIÓN POR EDIFICIO
A5: 1 | B5: Edificio 'A' | D5: Área 3er Niv. : | E5: 332 | G5: =CONCATENATE("Total ", B5) -> Total Edificio 'A'
D6: Área 2do Niv. : | E6: 332 | G6: =CONCATENATE(SUM(E5:E7)," M2") -> 996 M2
D7: Área P.B. : | E7: 332
A9: 2 | B9: Edificio 'B' | D9: Área 3er Niv. : | E9: 432 | G9: =CONCATENATE("Total ", B9) -> Total Edificio 'B'
D10: Área 2do Niv. : | E10: 432 | G10: =CONCATENATE(SUM(E9:E11)," M2") -> 1296 M2
D11: Área P.B. : | E11: 432
A13: 3 | B13: Edificio 'C' | D13: Área 3er Niv. : | E13: 347 | G13: =CONCATENATE("Total ", B13) -> Total Edificio 'C'
D14: Área 2do Niv. : | E14: 347 | G14: =CONCATENATE(SUM(E13:E15)," M2") -> 1041 M2
D15: Área P.B. : | E15: 347
A17: 4 | B17: Administrativo | D17: Área P.A. : | E17: 393 | G17: =CONCATENATE("Total ", B17) -> Total Administrativo
D18: Área P.B. : | E18: 688 | G18: =CONCATENATE(SUM(E17:E18)," M2") -> 1081 M2
A20: 5 | B20: Edificio Móvil | D20: Área P.A. : | G20: =CONCATENATE("Total ", B20) -> Total Edificio Móvil
B21: Dirección (Traila Movil) | D21: Área P.B. : | E21: 67 | G21: =CONCATENATE(SUM(E20:E21)," M2") -> 67 M2
A23: 6 | B23: Edificio Móvil | D23: Área P.A. : | G23: =CONCATENATE("Total ", B23) -> Total Edificio Móvil
B24: Aula (Traila Movil) | D24: Área P.B. : | E24: 89 | G24: =CONCATENATE(SUM(E23:E24)," M2") -> 89 M2
A26: 7 | B26: Edificio Móvil | D26: Área P.A. : | G26: =CONCATENATE("Total ", B26) -> Total Edificio Móvil
B27: Aula (Traila Movil) | D27: Área P.B. : | E27: 89 | G27: =CONCATENATE(SUM(E26:E27)," M2") -> 89 M2
A29: 8 | B29: Edificio Móvil | D29: Área P.A. : | G29: =CONCATENATE("Total ", B29) -> Total Edificio Móvil
B30: Aula (Traila Movil) | D30: Área P.B. : | E30: 89 | G30: =CONCATENATE(SUM(E29:E30)," M2") -> 89 M2
A32: 9 | B32: Edificio Móvil | D32: Área P.A. : | G32: =CONCATENATE("Total ", B32) -> Total Edificio Móvil
B33: Aula (Traila Movil) | D33: Área P.B. : | E33: 89 | G33: =CONCATENATE(SUM(E32:E33)," M2") -> 89 M2
A35: 10 | B35: Edificio Móvil | D35: Área P.A. : | G35: =CONCATENATE("Total ", B35) -> Total Edificio Móvil
B36: Aula (Traila Movil) | D36: Área P.B. : | E36: 89 | G36: =CONCATENATE(SUM(E35:E36)," M2") -> 89 M2
A38: 11 | B38: Edificio Móvil | D38: Área P.A. : | G38: =CONCATENATE("Total ", B38) -> Total Edificio Móvil
B39: Aula (Traila Movil) | D39: Área P.B. : | E39: 89 | G39: =CONCATENATE(SUM(E38:E39)," M2") -> 89 M2
A41: 12 | B41: Edificio Móvil | D41: Área P.A. : | G41: =CONCATENATE("Total ", B41) -> Total Edificio Móvil
B42: Aula (Traila Movil) | D42: Área P.B. : | E42: 89 | G42: =CONCATENATE(SUM(E41:E42)," M2") -> 89 M2
A44: 13 | B44: Edificio Móvil | D44: Área P.A. : | G44: =CONCATENATE("Total ", B44) -> Total Edificio Móvil
B45: Cafetería | D45: Área P.B. : | E45: 89 | G45: =CONCATENATE(SUM(E44:E45)," M2") -> 89 M2
J46: falta 102.48m2 de las gradas-almacen
B47: Total Edificios: | C47: =COUNT(A4:A44) -> 13 | D47: Área Total: | E47: =SUM(E5:E45) -> 5193

Sheet ext. 1er ayto
C2: PLANTEL: EXTENSIÓN PRIMER AYUNTAMIENTO PLAYAS DE ROSARITO
C4: SUPERFICIES DE CONSTRUCCIÓN POR EDIFICIO
B6: 1 | C6: Edificio 'A' | E6: Área P.A. : | H6: =CONCATENATE("Total ", C6) -> Total Edificio 'A'
C7: Dirección (Traila Movil) | E7: Área P.B. : | F7: 37 | H7: =CONCATENATE(SUM(F6:F7)," M2") -> 37 M2
B9: 2 | C9: Edificio 'B' | E9: Área P.A. : | H9: =CONCATENATE("Total ", C9) -> Total Edificio 'B'
C10: Biblioteca (Traila Movil) | E10: Área P.B. : | F10: 133 | H10: =CONCATENATE(SUM(F9:F10)," M2") -> 133 M2
B12: 3 | C12: Edificio 'C' | E12: Área P.A. : | H12: =CONCATENATE("Total ", C12) -> Total Edificio 'C'
C13: Sala Profesores (Traila Movil) | E13: Área P.B. : | F13: 133 | H13: =CONCATENATE(SUM(F12:F13)," M2") -> 133 M2
C15: Total Edificios: | D15: =COUNT(B6:B12) -> 3 | E15: Área Total: | F15: =SUM(F6:F13) -> 303

Sheet ali
C2: PLANTEL: ALONSO LUJAMBIO IRAZABAL
C4: SUPERFICIES DE CONSTRUCCIÓN POR EDIFICIO
B6: 1 | C6: Edificio 'A' | E6: Área P.A. : | H6: =CONCATENATE("Total ", C6) -> Total Edificio 'A'
C7: Dirección (Traila Movil) | E7: Área P.B. : | F7: 89 | H7: =CONCATENATE(SUM(F6:F7)," M2") -> 89 M2
B9: 2 | C9: Edificio 'B' | E9: Área P.A. : | H9: =CONCATENATE("Total ", C9) -> Total Edificio 'B'
C10: Aula (Traila Movil) | E10: Área P.B. : | F10: 133 | H10: =CONCATENATE(SUM(F9:F10)," M2") -> 133 M2
B12: 3 | C12: Edificio 'C' | E12: Área P.A. : | H12: =CONCATENATE("Total ", C12) -> Total Edificio 'C'
C13: Aula (Traila Movil) | E13: Área P.B. : | F13: 133 | H13: =CONCATENATE(SUM(F12:F13)," M2") -> 133 M2
B15: 4 | C15: Edificio 'C' | E15: Área P.A. : | H15: =CONCATENATE("Total ", C15) -> Total Edificio 'C'
C16: Aula (Traila Movil) | E16: Área P.B. : | F16: 133 | H16: =CONCATENATE(SUM(F15:F16)," M2") -> 133 M2
C18: Total Edificios: | D18: =COUNT(B6:B15) -> 4 | E18: Área Total: | F18: =SUM(F6:F16) -> 488
